BEGIN:VCALENDAR
VERSION:2.0
PRODID:-//INSTITUTO DE FORMACIÓN EN EDUCACIÓN TÉCNICA  - ECPv6.1.4//NONSGML v1.0//EN
CALSCALE:GREGORIAN
METHOD:PUBLISH
X-WR-CALNAME:INSTITUTO DE FORMACIÓN EN EDUCACIÓN TÉCNICA 
X-ORIGINAL-URL:https://institutoifet.com
X-WR-CALDESC:Events for INSTITUTO DE FORMACIÓN EN EDUCACIÓN TÉCNICA 
REFRESH-INTERVAL;VALUE=DURATION:PT1H
X-Robots-Tag:noindex
X-PUBLISHED-TTL:PT1H
BEGIN:VTIMEZONE
TZID:Europe/Madrid
BEGIN:DAYLIGHT
TZOFFSETFROM:+0100
TZOFFSETTO:+0200
TZNAME:CEST
DTSTART:20230326T010000
END:DAYLIGHT
BEGIN:STANDARD
TZOFFSETFROM:+0200
TZOFFSETTO:+0100
TZNAME:CET
DTSTART:20231029T010000
END:STANDARD
END:VTIMEZONE
BEGIN:VEVENT
DTSTART;TZID=Europe/Madrid:20230826T080000
DTEND;TZID=Europe/Madrid:20230826T170000
DTSTAMP:20260421T060926
CREATED:20230812T171355Z
LAST-MODIFIED:20230812T171805Z
UID:123-1693036800-1693069200@institutoifet.com
SUMMARY:INICIO DE CLASES
DESCRIPTION:HOLA A TODOS
URL:https://institutoifet.com/index.php/evento/inicio-de-clases/
END:VEVENT
END:VCALENDAR